BEGIN:VCALENDAR
VERSION:2.0
PRODID:-//AIDS Memorial Project of Northeast Florida - ECPv6.15.20//NONSGML v1.0//EN
CALSCALE:GREGORIAN
METHOD:PUBLISH
X-WR-CALNAME:AIDS Memorial Project of Northeast Florida
X-ORIGINAL-URL:https://jaxaidsmemorial.org
X-WR-CALDESC:Events for AIDS Memorial Project of Northeast Florida
REFRESH-INTERVAL;VALUE=DURATION:PT1H
X-Robots-Tag:noindex
X-PUBLISHED-TTL:PT1H
BEGIN:VTIMEZONE
TZID:America/New_York
BEGIN:DAYLIGHT
TZOFFSETFROM:-0500
TZOFFSETTO:-0400
TZNAME:EDT
DTSTART:20230312T070000
END:DAYLIGHT
BEGIN:STANDARD
TZOFFSETFROM:-0400
TZOFFSETTO:-0500
TZNAME:EST
DTSTART:20231105T060000
END:STANDARD
BEGIN:DAYLIGHT
TZOFFSETFROM:-0500
TZOFFSETTO:-0400
TZNAME:EDT
DTSTART:20240310T070000
END:DAYLIGHT
BEGIN:STANDARD
TZOFFSETFROM:-0400
TZOFFSETTO:-0500
TZNAME:EST
DTSTART:20241103T060000
END:STANDARD
BEGIN:DAYLIGHT
TZOFFSETFROM:-0500
TZOFFSETTO:-0400
TZNAME:EDT
DTSTART:20250309T070000
END:DAYLIGHT
BEGIN:STANDARD
TZOFFSETFROM:-0400
TZOFFSETTO:-0500
TZNAME:EST
DTSTART:20251102T060000
END:STANDARD
BEGIN:DAYLIGHT
TZOFFSETFROM:-0500
TZOFFSETTO:-0400
TZNAME:EDT
DTSTART:20260308T070000
END:DAYLIGHT
BEGIN:STANDARD
TZOFFSETFROM:-0400
TZOFFSETTO:-0500
TZNAME:EST
DTSTART:20261101T060000
END:STANDARD
BEGIN:DAYLIGHT
TZOFFSETFROM:-0500
TZOFFSETTO:-0400
TZNAME:EDT
DTSTART:20270314T070000
END:DAYLIGHT
BEGIN:STANDARD
TZOFFSETFROM:-0400
TZOFFSETTO:-0500
TZNAME:EST
DTSTART:20271107T060000
END:STANDARD
END:VTIMEZONE
BEGIN:VEVENT
DTSTART;VALUE=DATE:20241011
DTEND;VALUE=DATE:20241012
DTSTAMP:20260421T223237
CREATED:20240913T131853Z
LAST-MODIFIED:20240913T132418Z
UID:240055-1728604800-1728691199@jaxaidsmemorial.org
SUMMARY:National Coming Out Day
DESCRIPTION:
URL:https://jaxaidsmemorial.org/event/national-coming-out-day/
LOCATION:Florida
ATTACH;FMTTYPE=image/jpeg:https://jaxaidsmemorial.org/wp-content/uploads/2024/09/National-Coming-Out-Day.jpg
END:VEVENT
BEGIN:VEVENT
DTSTART;TZID=America/New_York:20241012T130000
DTEND;TZID=America/New_York:20241012T180000
DTSTAMP:20260421T223237
CREATED:20240913T132045Z
LAST-MODIFIED:20240913T132051Z
UID:240057-1728738000-1728756000@jaxaidsmemorial.org
SUMMARY:Riverside Avondale Preservation (RAP) Music Festival
DESCRIPTION:Willowbranch Park (Multiple Locations)\n1:00-6:00 PM
URL:https://jaxaidsmemorial.org/event/riverside-avondale-preservation-rap-music-festival/
LOCATION:Willowbranch Park\, Jacksonville\, Florida\, 32205
ATTACH;FMTTYPE=image/png:https://jaxaidsmemorial.org/wp-content/uploads/2024/09/image0.png
END:VEVENT
BEGIN:VEVENT
DTSTART;TZID=America/New_York:20241109T100000
DTEND;TZID=America/New_York:20241109T230000
DTSTAMP:20260421T223237
CREATED:20241113T155618Z
LAST-MODIFIED:20241113T155618Z
UID:240095-1731146400-1731193200@jaxaidsmemorial.org
SUMMARY:Historic PRIDE Marker Unveiling
DESCRIPTION:
URL:https://jaxaidsmemorial.org/event/historic-pride-marker-unveiling/
LOCATION:Willowbranch Park\, Jacksonville\, Florida\, 32205
ATTACH;FMTTYPE=image/jpeg:https://jaxaidsmemorial.org/wp-content/uploads/2024/11/image1.jpeg
END:VEVENT
BEGIN:VEVENT
DTSTART;VALUE=DATE:20241206
DTEND;VALUE=DATE:20241207
DTSTAMP:20260421T223237
CREATED:20240913T132115Z
LAST-MODIFIED:20240916T153926Z
UID:240060-1733443200-1733529599@jaxaidsmemorial.org
SUMMARY:World AIDS Day
DESCRIPTION:
URL:https://jaxaidsmemorial.org/event/world-aids-day/
LOCATION:Florida
ATTACH;FMTTYPE=image/jpeg:https://jaxaidsmemorial.org/wp-content/uploads/2024/09/world-aids-day.jpg
END:VEVENT
BEGIN:VEVENT
DTSTART;TZID=America/New_York:20260314T083000
DTEND;TZID=America/New_York:20260314T233000
DTSTAMP:20260421T223237
CREATED:20260310T135832Z
LAST-MODIFIED:20260310T135832Z
UID:240403-1773477000-1773531000@jaxaidsmemorial.org
SUMMARY:AIDS Walk
DESCRIPTION:
URL:https://jaxaidsmemorial.org/event/aids-walk/
LOCATION:1096 A Philip Randolph\, 1096 A Philip Randolph\, Jacksonville\, Florida
END:VEVENT
BEGIN:VEVENT
DTSTART;TZID=America/New_York:20260321T090000
DTEND;TZID=America/New_York:20260321T230000
DTSTAMP:20260421T223237
CREATED:20260310T135644Z
LAST-MODIFIED:20260310T135644Z
UID:240401-1774083600-1774134000@jaxaidsmemorial.org
SUMMARY:Park Cleanup
DESCRIPTION:
URL:https://jaxaidsmemorial.org/event/park-cleanup-2/
LOCATION:Willowbranch Park\, Jacksonville\, Florida\, 32205
END:VEVENT
END:VCALENDAR