BEGIN:VCALENDAR
VERSION:2.0
PRODID:-//AIDS Memorial Project of Northeast Florida - ECPv6.15.20//NONSGML v1.0//EN
CALSCALE:GREGORIAN
METHOD:PUBLISH
X-WR-CALNAME:AIDS Memorial Project of Northeast Florida
X-ORIGINAL-URL:https://jaxaidsmemorial.org
X-WR-CALDESC:Events for AIDS Memorial Project of Northeast Florida
REFRESH-INTERVAL;VALUE=DURATION:PT1H
X-Robots-Tag:noindex
X-PUBLISHED-TTL:PT1H
BEGIN:VTIMEZONE
TZID:America/New_York
BEGIN:DAYLIGHT
TZOFFSETFROM:-0500
TZOFFSETTO:-0400
TZNAME:EDT
DTSTART:20220313T070000
END:DAYLIGHT
BEGIN:STANDARD
TZOFFSETFROM:-0400
TZOFFSETTO:-0500
TZNAME:EST
DTSTART:20221106T060000
END:STANDARD
BEGIN:DAYLIGHT
TZOFFSETFROM:-0500
TZOFFSETTO:-0400
TZNAME:EDT
DTSTART:20230312T070000
END:DAYLIGHT
BEGIN:STANDARD
TZOFFSETFROM:-0400
TZOFFSETTO:-0500
TZNAME:EST
DTSTART:20231105T060000
END:STANDARD
BEGIN:DAYLIGHT
TZOFFSETFROM:-0500
TZOFFSETTO:-0400
TZNAME:EDT
DTSTART:20240310T070000
END:DAYLIGHT
BEGIN:STANDARD
TZOFFSETFROM:-0400
TZOFFSETTO:-0500
TZNAME:EST
DTSTART:20241103T060000
END:STANDARD
END:VTIMEZONE
BEGIN:VEVENT
DTSTART;TZID=America/New_York:20230623T173000
DTEND;TZID=America/New_York:20230623T193000
DTSTAMP:20260422T194041
CREATED:20240312T015342Z
LAST-MODIFIED:20240312T015342Z
UID:239758-1687541400-1687548600@jaxaidsmemorial.org
SUMMARY:Summer Social
DESCRIPTION:Hosted by AMP\, Manifest Distillery\, and Biscotti’s Bakery.\nLocation: Biscotti’s Bakery at 3635 Park Street.
URL:https://jaxaidsmemorial.org/event/summer-social/
LOCATION:Biscotti’s Bakery\, 3635 Park Street\, Jacksonville\, FL\, 32205\, United States
END:VEVENT
END:VCALENDAR